BEGIN:VCALENDAR
VERSION:2.0
PRODID:-//wp-events-plugin.com//7.2.3.1//EN
TZID:Europe/Amsterdam
X-WR-TIMEZONE:Europe/Amsterdam
BEGIN:VEVENT
UID:161@bavovrienden.nl
DTSTART:20251004T160000Z
DTEND:20251004T173000Z
DTSTAMP:20251002T121149Z
URL:https://bavovrienden.nl/events/bavo-cantate-een-vocaal-monument-voor-d
 e-baaf-4-oktober/
SUMMARY:Bavo Cantate – Een vocaal monument voor de Baaf (4 oktober)
DESCRIPTION:Het grote sluitstuk van ons jubileumjaar is de wereldpremière 
 van een gloednieuw muzikaal werk\; Bavo Cantate – Een vocaal monument vo
 or de Baaf. Een unieke muzikale vertelling waarin de Bavo tot leven komt i
 n klank\, verhaal en geschiedenis.\n\nMet een libretto van scenarioschrijv
 er Don Duyns\, geïnspireerd op Haarlemse verhalen en figuren\, en een com
 positie van altviolist Oene van Geel\, beleeft de Bavo haar stem op geheel
  nieuwe wijze. Uitvoerders zijn het jonge koor Consort023-vocaal\, onder l
 eiding van dirigent Michel Poels. Solisten\, het beroemde Müller-orgel en
  altviool kleuren het verhaal muzikaal in.\n\nLaat u meeslepen door de ste
 mmen van onder meer Harry Mulisch\, Mozart\, Arthur van Schendel en Frans 
 Hals\, die samen een bonte stoet van Haarlemse geschiedenis vormen.\n\nMis
  dit muzikale monument voor de Baaf niet! Bestel nu je tickets via deze li
 nk.\n\nDatum: Zaterdag 4 en zondag 5 oktober 2025 om 16:00 uur\n\nLocatie:
  Grote of St.-Bavokerk\, Haarlem\n\nTickets voor de Bavo Cantate zijn ook 
 bij de deur te verkrijgen.\n\nIllustratie: Don Duyns\n\n
ATTACH;FMTTYPE=image/jpeg:https://bavovrienden.nl/wp-content/uploads/2025/
 03/BV_50Jaar_digitale_socials_2025_1080x1080Cantate.jpg
LOCATION:Grote of Sint-Bavokerk\, Grote Markt 22\, Haarlem\, 2011 RD\, Nede
 rland
X-APPLE-STRUCTURED-LOCATION;VALUE=URI;X-ADDRESS=Grote Markt 22\, Haarlem\, 
 2011 RD\, Nederland;X-APPLE-RADIUS=100;X-TITLE=Grote of Sint-Bavokerk:geo:
 0,0
END:VEVENT
END:VCALENDAR